BEGIN:VCALENDAR
VERSION:2.0
PRODID:-//Half Moon Motel - ECPv6.15.17.1//NONSGML v1.0//EN
CALSCALE:GREGORIAN
METHOD:PUBLISH
X-ORIGINAL-URL:https://www.halfmoonmotel.com
X-WR-CALDESC:Events for Half Moon Motel
REFRESH-INTERVAL;VALUE=DURATION:PT1H
X-Robots-Tag:noindex
X-PUBLISHED-TTL:PT1H
BEGIN:VTIMEZONE
TZID:UTC
BEGIN:STANDARD
TZOFFSETFROM:+0000
TZOFFSETTO:+0000
TZNAME:UTC
DTSTART:20250101T000000
END:STANDARD
END:VTIMEZONE
BEGIN:VEVENT
DTSTART;VALUE=DATE:20260508
DTEND;VALUE=DATE:20260515
DTSTAMP:20260423T121143
CREATED:20231104T163812Z
LAST-MODIFIED:20251119T224043Z
UID:10000028-1778198400-1778803199@www.halfmoonmotel.com
SUMMARY:Off Season
DESCRIPTION:
URL:https://www.halfmoonmotel.com/event/off-season-3/
CATEGORIES:Off Season
END:VEVENT
END:VCALENDAR