BEGIN:VCALENDAR
VERSION:2.0
PRODID:-//Half Moon Motel - ECPv6.15.17.1//NONSGML v1.0//EN
CALSCALE:GREGORIAN
METHOD:PUBLISH
X-WR-CALNAME:Half Moon Motel
X-ORIGINAL-URL:https://www.halfmoonmotel.com
X-WR-CALDESC:Events for Half Moon Motel
REFRESH-INTERVAL;VALUE=DURATION:PT1H
X-Robots-Tag:noindex
X-PUBLISHED-TTL:PT1H
BEGIN:VTIMEZONE
TZID:America/New_York
BEGIN:DAYLIGHT
TZOFFSETFROM:-0500
TZOFFSETTO:-0400
TZNAME:EDT
DTSTART:20250309T070000
END:DAYLIGHT
BEGIN:STANDARD
TZOFFSETFROM:-0400
TZOFFSETTO:-0500
TZNAME:EST
DTSTART:20251102T060000
END:STANDARD
BEGIN:DAYLIGHT
TZOFFSETFROM:-0500
TZOFFSETTO:-0400
TZNAME:EDT
DTSTART:20260308T070000
END:DAYLIGHT
BEGIN:STANDARD
TZOFFSETFROM:-0400
TZOFFSETTO:-0500
TZNAME:EST
DTSTART:20261101T060000
END:STANDARD
BEGIN:DAYLIGHT
TZOFFSETFROM:-0500
TZOFFSETTO:-0400
TZNAME:EDT
DTSTART:20270314T070000
END:DAYLIGHT
BEGIN:STANDARD
TZOFFSETFROM:-0400
TZOFFSETTO:-0500
TZNAME:EST
DTSTART:20271107T060000
END:STANDARD
END:VTIMEZONE
BEGIN:VTIMEZONE
TZID:UTC
BEGIN:STANDARD
TZOFFSETFROM:+0000
TZOFFSETTO:+0000
TZNAME:UTC
DTSTART:20250101T000000
END:STANDARD
END:VTIMEZONE
BEGIN:VEVENT
DTSTART;VALUE=DATE:20260515
DTEND;VALUE=DATE:20260517
DTSTAMP:20260423T185046
CREATED:20251119T223708Z
LAST-MODIFIED:20251119T223708Z
UID:10000035-1778803200-1778975999@www.halfmoonmotel.com
SUMMARY:Wake the Lake
DESCRIPTION:
URL:https://www.halfmoonmotel.com/event/wake-the-lake/
CATEGORIES:Motorcycle Week
END:VEVENT
BEGIN:VEVENT
DTSTART;VALUE=DATE:20260610
DTEND;VALUE=DATE:20260624
DTSTAMP:20260423T185046
CREATED:20180321T232718Z
LAST-MODIFIED:20251118T212717Z
UID:10000001-1781049600-1782259199@www.halfmoonmotel.com
SUMMARY:Motorcycle Week
DESCRIPTION:
URL:https://www.halfmoonmotel.com/event/motorcycle-week/
CATEGORIES:Motorcycle Week
END:VEVENT
BEGIN:VEVENT
DTSTART;VALUE=DATE:20260918
DTEND;VALUE=DATE:20260920
DTSTAMP:20260423T185046
CREATED:20180321T234901Z
LAST-MODIFIED:20251118T213818Z
UID:10000014-1789689600-1789862399@www.halfmoonmotel.com
SUMMARY:Biketemberfest
DESCRIPTION:
URL:https://www.halfmoonmotel.com/event/biketemberfest/
CATEGORIES:Motorcycle Week
END:VEVENT
END:VCALENDAR