BEGIN:VCALENDAR
VERSION:2.0
PRODID:-//Half Moon Motel - ECPv6.15.17.1//NONSGML v1.0//EN
CALSCALE:GREGORIAN
METHOD:PUBLISH
X-ORIGINAL-URL:https://www.halfmoonmotel.com
X-WR-CALDESC:Events for Half Moon Motel
REFRESH-INTERVAL;VALUE=DURATION:PT1H
X-Robots-Tag:noindex
X-PUBLISHED-TTL:PT1H
BEGIN:VTIMEZONE
TZID:America/New_York
BEGIN:DAYLIGHT
TZOFFSETFROM:-0500
TZOFFSETTO:-0400
TZNAME:EDT
DTSTART:20250309T070000
END:DAYLIGHT
BEGIN:STANDARD
TZOFFSETFROM:-0400
TZOFFSETTO:-0500
TZNAME:EST
DTSTART:20251102T060000
END:STANDARD
BEGIN:DAYLIGHT
TZOFFSETFROM:-0500
TZOFFSETTO:-0400
TZNAME:EDT
DTSTART:20260308T070000
END:DAYLIGHT
BEGIN:STANDARD
TZOFFSETFROM:-0400
TZOFFSETTO:-0500
TZNAME:EST
DTSTART:20261101T060000
END:STANDARD
BEGIN:DAYLIGHT
TZOFFSETFROM:-0500
TZOFFSETTO:-0400
TZNAME:EDT
DTSTART:20270314T070000
END:DAYLIGHT
BEGIN:STANDARD
TZOFFSETFROM:-0400
TZOFFSETTO:-0500
TZNAME:EST
DTSTART:20271107T060000
END:STANDARD
END:VTIMEZONE
BEGIN:VTIMEZONE
TZID:UTC
BEGIN:STANDARD
TZOFFSETFROM:+0000
TZOFFSETTO:+0000
TZNAME:UTC
DTSTART:20250101T000000
END:STANDARD
END:VTIMEZONE
BEGIN:VEVENT
DTSTART;VALUE=DATE:20260807
DTEND;VALUE=DATE:20260809
DTSTAMP:20260423T195333
CREATED:20200624T212641Z
LAST-MODIFIED:20251118T213350Z
UID:10000023-1786060800-1786233599@www.halfmoonmotel.com
SUMMARY:Two Night Minimum
DESCRIPTION:
URL:https://www.halfmoonmotel.com/event/two-night-minimum-6/
CATEGORIES:Two Night Minimum
END:VEVENT
BEGIN:VEVENT
DTSTART;VALUE=DATE:20260814
DTEND;VALUE=DATE:20260816
DTSTAMP:20260423T195333
CREATED:20180321T234622Z
LAST-MODIFIED:20251118T213425Z
UID:10000012-1786665600-1786838399@www.halfmoonmotel.com
SUMMARY:Two Night Minimum
DESCRIPTION:
URL:https://www.halfmoonmotel.com/event/two-night-minimum-4/
CATEGORIES:Two Night Minimum
END:VEVENT
BEGIN:VEVENT
DTSTART;VALUE=DATE:20260828
DTEND;VALUE=DATE:20260830
DTSTAMP:20260423T195333
CREATED:20231104T162324Z
LAST-MODIFIED:20251118T213633Z
UID:10000027-1787875200-1788047999@www.halfmoonmotel.com
SUMMARY:Two Night Minimum
DESCRIPTION:
URL:https://www.halfmoonmotel.com/event/two-night-minimum-7/
CATEGORIES:Two Night Minimum
END:VEVENT
END:VCALENDAR