BEGIN:VCALENDAR
VERSION:2.0
PRODID:-//Half Moon Motel - ECPv6.15.17.1//NONSGML v1.0//EN
CALSCALE:GREGORIAN
METHOD:PUBLISH
X-WR-CALNAME:Half Moon Motel
X-ORIGINAL-URL:https://www.halfmoonmotel.com
X-WR-CALDESC:Events for Half Moon Motel
REFRESH-INTERVAL;VALUE=DURATION:PT1H
X-Robots-Tag:noindex
X-PUBLISHED-TTL:PT1H
BEGIN:VTIMEZONE
TZID:UTC
BEGIN:STANDARD
TZOFFSETFROM:+0000
TZOFFSETTO:+0000
TZNAME:UTC
DTSTART:20250101T000000
END:STANDARD
END:VTIMEZONE
BEGIN:VEVENT
DTSTART;VALUE=DATE:20260710
DTEND;VALUE=DATE:20260712
DTSTAMP:20260423T191431
CREATED:20231104T161958Z
LAST-MODIFIED:20251118T213138Z
UID:10000026-1783641600-1783814399@www.halfmoonmotel.com
SUMMARY:Two Night Minimum
DESCRIPTION:
URL:https://www.halfmoonmotel.com/event/two-night-minimum-3/
CATEGORIES:Two Night Minimum
END:VEVENT
END:VCALENDAR