BEGIN:VCALENDAR
VERSION:2.0
PRODID:-//Half Moon Motel - ECPv6.15.17.1//NONSGML v1.0//EN
CALSCALE:GREGORIAN
METHOD:PUBLISH
X-ORIGINAL-URL:https://www.halfmoonmotel.com
X-WR-CALDESC:Events for Half Moon Motel
REFRESH-INTERVAL;VALUE=DURATION:PT1H
X-Robots-Tag:noindex
X-PUBLISHED-TTL:PT1H
BEGIN:VTIMEZONE
TZID:UTC
BEGIN:STANDARD
TZOFFSETFROM:+0000
TZOFFSETTO:+0000
TZNAME:UTC
DTSTART:20250101T000000
END:STANDARD
END:VTIMEZONE
BEGIN:VTIMEZONE
TZID:America/New_York
BEGIN:DAYLIGHT
TZOFFSETFROM:-0500
TZOFFSETTO:-0400
TZNAME:EDT
DTSTART:20250309T070000
END:DAYLIGHT
BEGIN:STANDARD
TZOFFSETFROM:-0400
TZOFFSETTO:-0500
TZNAME:EST
DTSTART:20251102T060000
END:STANDARD
BEGIN:DAYLIGHT
TZOFFSETFROM:-0500
TZOFFSETTO:-0400
TZNAME:EDT
DTSTART:20260308T070000
END:DAYLIGHT
BEGIN:STANDARD
TZOFFSETFROM:-0400
TZOFFSETTO:-0500
TZNAME:EST
DTSTART:20261101T060000
END:STANDARD
BEGIN:DAYLIGHT
TZOFFSETFROM:-0500
TZOFFSETTO:-0400
TZNAME:EDT
DTSTART:20270314T070000
END:DAYLIGHT
BEGIN:STANDARD
TZOFFSETFROM:-0400
TZOFFSETTO:-0500
TZNAME:EST
DTSTART:20271107T060000
END:STANDARD
END:VTIMEZONE
BEGIN:VEVENT
DTSTART;VALUE=DATE:20260820
DTEND;VALUE=DATE:20260824
DTSTAMP:20260423T154155
CREATED:20180322T000126Z
LAST-MODIFIED:20251118T213513Z
UID:10000020-1787184000-1787529599@www.halfmoonmotel.com
SUMMARY:NASCAR Race
DESCRIPTION:
URL:https://www.halfmoonmotel.com/event/nascar-race/
CATEGORIES:NASCAR race
END:VEVENT
BEGIN:VEVENT
DTSTART;VALUE=DATE:20260824
DTEND;VALUE=DATE:20260904
DTSTAMP:20260423T154155
CREATED:20180321T234955Z
LAST-MODIFIED:20251118T213557Z
UID:10000015-1787529600-1788479999@www.halfmoonmotel.com
SUMMARY:Off Season
DESCRIPTION:
URL:https://www.halfmoonmotel.com/event/off-season-4/
CATEGORIES:Off Season
END:VEVENT
BEGIN:VEVENT
DTSTART;VALUE=DATE:20260828
DTEND;VALUE=DATE:20260830
DTSTAMP:20260423T154155
CREATED:20231104T162324Z
LAST-MODIFIED:20251118T213633Z
UID:10000027-1787875200-1788047999@www.halfmoonmotel.com
SUMMARY:Two Night Minimum
DESCRIPTION:
URL:https://www.halfmoonmotel.com/event/two-night-minimum-7/
CATEGORIES:Two Night Minimum
END:VEVENT
BEGIN:VEVENT
DTSTART;VALUE=DATE:20260904
DTEND;VALUE=DATE:20260907
DTSTAMP:20260423T154155
CREATED:20180321T235106Z
LAST-MODIFIED:20251118T213705Z
UID:10000016-1788480000-1788739199@www.halfmoonmotel.com
SUMMARY:Labor Day Weekend
DESCRIPTION:
URL:https://www.halfmoonmotel.com/event/labor-day-weekend/
CATEGORIES:Holiday
END:VEVENT
BEGIN:VEVENT
DTSTART;VALUE=DATE:20260907
DTEND;VALUE=DATE:20260918
DTSTAMP:20260423T154155
CREATED:20191112T163757Z
LAST-MODIFIED:20251118T213744Z
UID:10000022-1788739200-1789689599@www.halfmoonmotel.com
SUMMARY:Off Season
DESCRIPTION:
URL:https://www.halfmoonmotel.com/event/off-season-6/
CATEGORIES:Off Season
END:VEVENT
BEGIN:VEVENT
DTSTART;VALUE=DATE:20260918
DTEND;VALUE=DATE:20260920
DTSTAMP:20260423T154155
CREATED:20180321T234901Z
LAST-MODIFIED:20251118T213818Z
UID:10000014-1789689600-1789862399@www.halfmoonmotel.com
SUMMARY:Biketemberfest
DESCRIPTION:
URL:https://www.halfmoonmotel.com/event/biketemberfest/
CATEGORIES:Motorcycle Week
END:VEVENT
BEGIN:VEVENT
DTSTART;VALUE=DATE:20260920
DTEND;VALUE=DATE:20261009
DTSTAMP:20260423T154155
CREATED:20180321T235211Z
LAST-MODIFIED:20251118T213849Z
UID:10000017-1789862400-1791503999@www.halfmoonmotel.com
SUMMARY:Off Season
DESCRIPTION:
URL:https://www.halfmoonmotel.com/event/off-season-5/
CATEGORIES:Off Season
END:VEVENT
BEGIN:VEVENT
DTSTART;VALUE=DATE:20261009
DTEND;VALUE=DATE:20261012
DTSTAMP:20260423T154155
CREATED:20180321T235456Z
LAST-MODIFIED:20251118T213929Z
UID:10000018-1791504000-1791763199@www.halfmoonmotel.com
SUMMARY:Columbus Day Weekend
DESCRIPTION:
URL:https://www.halfmoonmotel.com/event/columbus-day-weekend/
CATEGORIES:Holiday
END:VEVENT
BEGIN:VEVENT
DTSTART;VALUE=DATE:20261012
DTEND;VALUE=DATE:20261018
DTSTAMP:20260423T154155
CREATED:20251118T220046Z
LAST-MODIFIED:20251120T174820Z
UID:10000034-1791763200-1792281599@www.halfmoonmotel.com
SUMMARY:Off Season
DESCRIPTION:
URL:https://www.halfmoonmotel.com/event/off-season/
CATEGORIES:Off Season
END:VEVENT
BEGIN:VEVENT
DTSTART;VALUE=DATE:20261018
DTEND;VALUE=DATE:20270507
DTSTAMP:20260423T154155
CREATED:20231104T164315Z
LAST-MODIFIED:20251118T214208Z
UID:10000030-1792281600-1809647999@www.halfmoonmotel.com
SUMMARY:Closed
DESCRIPTION:
URL:https://www.halfmoonmotel.com/event/closed-3/
CATEGORIES:Closed
END:VEVENT
END:VCALENDAR