BEGIN:VCALENDAR
VERSION:2.0
PRODID:-//Half Moon Motel - ECPv6.15.17.1//NONSGML v1.0//EN
CALSCALE:GREGORIAN
METHOD:PUBLISH
X-ORIGINAL-URL:https://www.halfmoonmotel.com
X-WR-CALDESC:Events for Half Moon Motel
REFRESH-INTERVAL;VALUE=DURATION:PT1H
X-Robots-Tag:noindex
X-PUBLISHED-TTL:PT1H
BEGIN:VTIMEZONE
TZID:America/New_York
BEGIN:DAYLIGHT
TZOFFSETFROM:-0500
TZOFFSETTO:-0400
TZNAME:EDT
DTSTART:20250309T070000
END:DAYLIGHT
BEGIN:STANDARD
TZOFFSETFROM:-0400
TZOFFSETTO:-0500
TZNAME:EST
DTSTART:20251102T060000
END:STANDARD
BEGIN:DAYLIGHT
TZOFFSETFROM:-0500
TZOFFSETTO:-0400
TZNAME:EDT
DTSTART:20260308T070000
END:DAYLIGHT
BEGIN:STANDARD
TZOFFSETFROM:-0400
TZOFFSETTO:-0500
TZNAME:EST
DTSTART:20261101T060000
END:STANDARD
BEGIN:DAYLIGHT
TZOFFSETFROM:-0500
TZOFFSETTO:-0400
TZNAME:EDT
DTSTART:20270314T070000
END:DAYLIGHT
BEGIN:STANDARD
TZOFFSETFROM:-0400
TZOFFSETTO:-0500
TZNAME:EST
DTSTART:20271107T060000
END:STANDARD
END:VTIMEZONE
BEGIN:VTIMEZONE
TZID:UTC
BEGIN:STANDARD
TZOFFSETFROM:+0000
TZOFFSETTO:+0000
TZNAME:UTC
DTSTART:20250101T000000
END:STANDARD
END:VTIMEZONE
BEGIN:VEVENT
DTSTART;VALUE=DATE:20261012
DTEND;VALUE=DATE:20261018
DTSTAMP:20260423T195545
CREATED:20251118T220046Z
LAST-MODIFIED:20251120T174820Z
UID:10000034-1791763200-1792281599@www.halfmoonmotel.com
SUMMARY:Off Season
DESCRIPTION:
URL:https://www.halfmoonmotel.com/event/off-season/
CATEGORIES:Off Season
END:VEVENT
BEGIN:VEVENT
DTSTART;VALUE=DATE:20261018
DTEND;VALUE=DATE:20270507
DTSTAMP:20260423T195545
CREATED:20231104T164315Z
LAST-MODIFIED:20251118T214208Z
UID:10000030-1792281600-1809647999@www.halfmoonmotel.com
SUMMARY:Closed
DESCRIPTION:
URL:https://www.halfmoonmotel.com/event/closed-3/
CATEGORIES:Closed
END:VEVENT
END:VCALENDAR