BEGIN:VCALENDAR
VERSION:2.0
PRODID:-//Half Moon Motel - ECPv6.15.17.1//NONSGML v1.0//EN
CALSCALE:GREGORIAN
METHOD:PUBLISH
X-ORIGINAL-URL:https://www.halfmoonmotel.com
X-WR-CALDESC:Events for Half Moon Motel
REFRESH-INTERVAL;VALUE=DURATION:PT1H
X-Robots-Tag:noindex
X-PUBLISHED-TTL:PT1H
BEGIN:VTIMEZONE
TZID:UTC
BEGIN:STANDARD
TZOFFSETFROM:+0000
TZOFFSETTO:+0000
TZNAME:UTC
DTSTART:20250101T000000
END:STANDARD
END:VTIMEZONE
BEGIN:VEVENT
DTSTART;VALUE=DATE:20260610
DTEND;VALUE=DATE:20260624
DTSTAMP:20260423T152601
CREATED:20180321T232718Z
LAST-MODIFIED:20251118T212717Z
UID:10000001-1781049600-1782259199@www.halfmoonmotel.com
SUMMARY:Motorcycle Week
DESCRIPTION:
URL:https://www.halfmoonmotel.com/event/motorcycle-week/
CATEGORIES:Motorcycle Week
END:VEVENT
BEGIN:VEVENT
DTSTART;VALUE=DATE:20260624
DTEND;VALUE=DATE:20260702
DTSTAMP:20260423T152601
CREATED:20231104T164045Z
LAST-MODIFIED:20251118T212757Z
UID:10000029-1782259200-1782950399@www.halfmoonmotel.com
SUMMARY:Peak Season
DESCRIPTION:
URL:https://www.halfmoonmotel.com/event/peak-season-3/
CATEGORIES:Peak Season
END:VEVENT
BEGIN:VEVENT
DTSTART;VALUE=DATE:20260626
DTEND;VALUE=DATE:20260628
DTSTAMP:20260423T152601
CREATED:20180321T233658Z
LAST-MODIFIED:20251118T212824Z
UID:10000009-1782432000-1782604799@www.halfmoonmotel.com
SUMMARY:Two Night Minimum
DESCRIPTION:
URL:https://www.halfmoonmotel.com/event/two-night-minimum/
CATEGORIES:Two Night Minimum
END:VEVENT
END:VCALENDAR